BEGIN:VCALENDAR
VERSION:2.0
PRODID:-//BMBAS - ECPv6.15.15//NONSGML v1.0//EN
CALSCALE:GREGORIAN
METHOD:PUBLISH
X-WR-CALNAME:BMBAS
X-ORIGINAL-URL:https://bmbas.org
X-WR-CALDESC:Events for BMBAS
REFRESH-INTERVAL;VALUE=DURATION:PT1H
X-Robots-Tag:noindex
X-PUBLISHED-TTL:PT1H
BEGIN:VTIMEZONE
TZID:America/Mexico_City
BEGIN:DAYLIGHT
TZOFFSETFROM:-0600
TZOFFSETTO:-0500
TZNAME:CDT
DTSTART:20190407T080000
END:DAYLIGHT
BEGIN:STANDARD
TZOFFSETFROM:-0500
TZOFFSETTO:-0600
TZNAME:CST
DTSTART:20191027T070000
END:STANDARD
BEGIN:DAYLIGHT
TZOFFSETFROM:-0600
TZOFFSETTO:-0500
TZNAME:CDT
DTSTART:20200405T080000
END:DAYLIGHT
BEGIN:STANDARD
TZOFFSETFROM:-0500
TZOFFSETTO:-0600
TZNAME:CST
DTSTART:20201025T070000
END:STANDARD
BEGIN:DAYLIGHT
TZOFFSETFROM:-0600
TZOFFSETTO:-0500
TZNAME:CDT
DTSTART:20210404T080000
END:DAYLIGHT
BEGIN:STANDARD
TZOFFSETFROM:-0500
TZOFFSETTO:-0600
TZNAME:CST
DTSTART:20211031T070000
END:STANDARD
BEGIN:DAYLIGHT
TZOFFSETFROM:-0600
TZOFFSETTO:-0500
TZNAME:CDT
DTSTART:20220403T080000
END:DAYLIGHT
BEGIN:STANDARD
TZOFFSETFROM:-0500
TZOFFSETTO:-0600
TZNAME:CST
DTSTART:20221030T070000
END:STANDARD
END:VTIMEZONE
BEGIN:VEVENT
DTSTART;TZID=America/Mexico_City:20220324T170000
DTEND;TZID=America/Mexico_City:20220324T180000
DTSTAMP:20260419T064858
CREATED:20220308T225019Z
LAST-MODIFIED:20220322T220635Z
UID:2761-1648141200-1648144800@bmbas.org
SUMMARY:Breaking into the Financial Service Industry
DESCRIPTION:  \nGuest Speakers: Lena Allouche and Brett Cristiano \nLena Allouche is the Director of Training and Development and Financial Strategist. Brett Cristiano is the Managing Director at MassMutual Greater Houston. Join us for a knowledge share session about how they got into the financial service industry. \nHere is a bit of their Bios: \nLena Allouche is a Partner at Duenna Wealth Strategies as well as the Director of Training and Development for MassMutual Greater Houston. Lena works with her clients to build comprehensive and personalized financial strategies. Not only does Lena help families and business owners with their financial strategies\, but she is also responsible for training and developing over 120 financial services professionals. \nLena holds a bachelor’s degree in finance with certifications in risk management and insurance from the Bauer Honors School of Business at the University of Houston. She is a Certified Training Director and holds many sales and financial industry-related training certificates. Currently\, she is pursuing a Master’s Degree in Psychology from Pepperdine University. \nApart from her work in the financial services industry\, she is passionate about community involvement and development. She currently sits on the Board of Directors for The Houston Women’s Resource\, a 501c3 organization that strives to help women and girls make choices towards becoming independent\, productive\, and financially stable. Lena has previously sat on the Executive Board of Directors for Friday Harbour\, a 501c3 organization that provides temporary housing for families and patients receiving cancer treatment in the Texas Medical Center. Additionally\, Lena was the Chairman Elect for Graduate Growth Group and led the organization’s soft-skills development program. She is a member of the Greater Houston Hispanic Chamber of Commerce Foundation’s Emerging Leaders Institute as well as a member of the United Way’s Project Blue Print class XXXVII; both programs designed to showcase Houston’s prospective leaders in the business and not-for- profit spaces. Lena is an advocate for women’s financial literacy and donates her time speaking to women’s groups to educate them on the importance of savings\, diversification\, and protecting the things they care about the most. \n  \nBrett Cristiano is a graduate of Texas A&M University and University of Houston\, C.T. Bauer College of Business. He was steadfast in his decision to pursue a career in finance and enjoyed the way he and his father analyzed world markets together; however; he was unsure of what his exact path should be. As his undergraduate years were wrapping up\, The Great Recession was in full effect. It was the longest lasting economic downturn since World War II and Brett watched in disbelief as the pension plans of so many near retirement aged people were completely diminished into nothing. He saw what resilient people did differently\, watched with fresh eyes as only a new graduate can see\, and his focus suddenly became that much more clear. With a sharper vision of what his career in finance should be\, he completed his graduate studies at Bauer with Honors and began a career with MassMutual. \nRising into his role as a Financial Advisor\, he has grown his book of business through referrals from satisfied clients who appreciate the passionate way he listens to their financial goals and the meticulously detailed manner each plan is executed. He continues to be recognized by MassMutual as a leader and is consistently ranked as a top advisor at the firm. \nBrett is an excellent educator and his enthusiasm for the financial services industry shows. As such\, he was promoted to Managing Director and works hands on in mentoring new Advisors. \nBrett stays active by playing ice hockey and chasing his toddler son\, Vincent\, and young daughter\, Carmela.
URL:https://bmbas.org/event/meeting-a-financial-service-representative/
END:VEVENT
BEGIN:VEVENT
DTSTART;TZID=America/Mexico_City:20220322T120000
DTEND;TZID=America/Mexico_City:20220322T130000
DTSTAMP:20260419T064858
CREATED:20220211T224523Z
LAST-MODIFIED:20220302T010039Z
UID:2748-1647950400-1647954000@bmbas.org
SUMMARY:Tips for a Successful Internship
DESCRIPTION:Guest speaker: Erin Reed from RCC
URL:https://bmbas.org/event/tips-for-a-successful-internship/
END:VEVENT
BEGIN:VEVENT
DTSTART;TZID=America/Mexico_City:20220309T170000
DTEND;TZID=America/Mexico_City:20220309T180000
DTSTAMP:20260419T064858
CREATED:20220308T185440Z
LAST-MODIFIED:20220308T185440Z
UID:2758-1646845200-1646848800@bmbas.org
SUMMARY:Primer on Renewable Natural Gas & Hydrogen
DESCRIPTION:
URL:https://bmbas.org/event/primer-on-renewable-natural-gas-hydrogen/
END:VEVENT
BEGIN:VEVENT
DTSTART;TZID=America/Mexico_City:20220225T180000
DTEND;TZID=America/Mexico_City:20220225T200000
DTSTAMP:20260419T064858
CREATED:20220124T205512Z
LAST-MODIFIED:20220209T035812Z
UID:2729-1645812000-1645819200@bmbas.org
SUMMARY:BMBAS Social Mixer at 8th Wonder
DESCRIPTION:Join us for a pint! \nBauer MBA Society (BMBAS) Members who RSVP will receive 3 drink tickets + Souvenir Glass. Once you arrive\, just check-in with us for tickets and a glass! \n  \nRSVP now on Campus Groups: https://cglink.me/2f6/r1512519
URL:https://bmbas.org/event/bmbas-social-mixer-at-8th-wonder/
LOCATION:8th Wonder Brewery\, 2202 Dallas St\, Houston\, TX\, 77003\, United States
END:VEVENT
BEGIN:VEVENT
DTSTART;TZID=America/Mexico_City:20220222T170000
DTEND;TZID=America/Mexico_City:20220222T180000
DTSTAMP:20260419T064858
CREATED:20220217T212358Z
LAST-MODIFIED:20220217T212358Z
UID:2752-1645549200-1645552800@bmbas.org
SUMMARY:How to Prepare for a Case Interview
DESCRIPTION:
URL:https://bmbas.org/event/how-to-prepare-for-a-case-interview/
END:VEVENT
BEGIN:VEVENT
DTSTART;TZID=America/Mexico_City:20220216T170000
DTEND;TZID=America/Mexico_City:20220216T180000
DTSTAMP:20260419T064858
CREATED:20220204T040407Z
LAST-MODIFIED:20220209T223946Z
UID:2736-1645030800-1645034400@bmbas.org
SUMMARY:Getting into Technology Consulting
DESCRIPTION:Link to RSVP: https://cglink.me/2f6/r1511016 \n 
URL:https://bmbas.org/event/technology-consulting/
CATEGORIES:Info Session
END:VEVENT
BEGIN:VEVENT
DTSTART;TZID=America/Mexico_City:20220128T090000
DTEND;TZID=America/Mexico_City:20220128T100000
DTSTAMP:20260419T064858
CREATED:20220115T152939Z
LAST-MODIFIED:20220115T152939Z
UID:2691-1643360400-1643364000@bmbas.org
SUMMARY:Networking: Love it or Loathe it\, Let's Do it!
DESCRIPTION:
URL:https://bmbas.org/event/networking-love-it-or-loathe-it-lets-do-it/
END:VEVENT
BEGIN:VEVENT
DTSTART;TZID=America/Mexico_City:20211001T170000
DTEND;TZID=America/Mexico_City:20211001T180000
DTSTAMP:20260419T064858
CREATED:20210928T180104Z
LAST-MODIFIED:20210928T180141Z
UID:2671-1633107600-1633111200@bmbas.org
SUMMARY:Data Science Within The Internal Revenue Service
DESCRIPTION:  \nLearn about data science trends within the IRS from Dr. Rudy Bartels and Quinton Anderson. \nAll participants are entered into a $25 Amazon gift card raffle at the end of the meeting so be sure to stay until the end! \n*This event is for members only \nhttps://us02web.zoom.us/j/86816675612 \n 
URL:https://bmbas.org/event/data-science-within-the-internal-revenue-service/
END:VEVENT
BEGIN:VEVENT
DTSTART;TZID=America/Mexico_City:20210915T170000
DTEND;TZID=America/Mexico_City:20210915T180000
DTSTAMP:20260419T064858
CREATED:20210901T212438Z
LAST-MODIFIED:20210901T212438Z
UID:2645-1631725200-1631728800@bmbas.org
SUMMARY:Bauer Energy Program Introduction
DESCRIPTION:This event is for club members only. \nIf you are a member and have not received a link to join please email energy.club@bmbas.org \n 
URL:https://bmbas.org/event/bauer-energy-program-introduction/
END:VEVENT
BEGIN:VEVENT
DTSTART;TZID=America/Mexico_City:20210913T180000
DTEND;TZID=America/Mexico_City:20210913T190000
DTSTAMP:20260419T064858
CREATED:20210911T214100Z
LAST-MODIFIED:20210911T214219Z
UID:2659-1631556000-1631559600@bmbas.org
SUMMARY:Bauer Energy Interview Prep with Lori Osborn
DESCRIPTION:Live virtual presentation with guest speaker – Lori Osborn \nMeeting ID: 896 4878 7365 \nPasscode: 862160 \nMEMBERS ONLY
URL:https://bmbas.org/event/interview-prep/
END:VEVENT
BEGIN:VEVENT
DTSTART;TZID=America/Mexico_City:20210909T140000
DTEND;TZID=America/Mexico_City:20210909T150000
DTSTAMP:20260419T064858
CREATED:20210902T004209Z
LAST-MODIFIED:20210902T004333Z
UID:2648-1631196000-1631199600@bmbas.org
SUMMARY:Consulting and Technology Club Introduction
DESCRIPTION:Learn about the club\, open positions\, and give input on club related activities. \nOpen to members and non-members. \nhttps://us02web.zoom.us/j/81007272927 \n  \n  \n 
URL:https://bmbas.org/event/consulting-and-technology-club-introduction/
END:VEVENT
BEGIN:VEVENT
DTSTART;TZID=America/Mexico_City:20210507T110000
DTEND;TZID=America/Mexico_City:20210507T123000
DTSTAMP:20260419T064858
CREATED:20210224T012148Z
LAST-MODIFIED:20210224T012148Z
UID:2593-1620385200-1620390600@bmbas.org
SUMMARY:RCC Event: Mentor Program
DESCRIPTION:Culmination Ceremony
URL:https://bmbas.org/event/rcc-event-mentor-program/
END:VEVENT
BEGIN:VEVENT
DTSTART;TZID=America/Mexico_City:20210422T120000
DTEND;TZID=America/Mexico_City:20210422T130000
DTSTAMP:20260419T064858
CREATED:20210416T233003Z
LAST-MODIFIED:20210416T233003Z
UID:2624-1619092800-1619096400@bmbas.org
SUMMARY:Tips for Successful Summer Internship (Energy Club)
DESCRIPTION:Event Name: Tips for Successful Summer Internship\nGuest Speaker: Lori Osborn (RCC Specialist)\nDate: April 22nd\, 2021\nTime: 12:00 pm to 1:00 pm\nLocation: Zoom meeting (we will be in charge of providing the link to the members)\n\nPlease see the flyer below:\n\n\n\n\n\n\n\n\n\n\n\n\nTips for a successful summer internship
URL:https://bmbas.org/event/tips-for-successful-summer-internship-energy-club/
END:VEVENT
BEGIN:VEVENT
DTSTART;TZID=America/Mexico_City:20210420T170000
DTEND;TZID=America/Mexico_City:20210420T180000
DTSTAMP:20260419T064858
CREATED:20210416T234605Z
LAST-MODIFIED:20210416T234605Z
UID:2628-1618938000-1618941600@bmbas.org
SUMMARY:Mixing Event and Seminar (Consulting Club)
DESCRIPTION:
URL:https://bmbas.org/event/mixing-event-and-seminar-consulting-club/
END:VEVENT
BEGIN:VEVENT
DTSTART;TZID=America/Mexico_City:20210415T170000
DTEND;TZID=America/Mexico_City:20210415T180000
DTSTAMP:20260419T064858
CREATED:20210410T021315Z
LAST-MODIFIED:20210410T054407Z
UID:2621-1618506000-1618509600@bmbas.org
SUMMARY:Informational & Networking Session (Consulting Club)
DESCRIPTION:
URL:https://bmbas.org/event/informational-networking-session-consulting-club/
END:VEVENT
BEGIN:VEVENT
DTSTART;TZID=America/Mexico_City:20210414T120000
DTEND;TZID=America/Mexico_City:20210414T130000
DTSTAMP:20260419T064858
CREATED:20210410T015613Z
LAST-MODIFIED:20210410T015613Z
UID:2618-1618401600-1618405200@bmbas.org
SUMMARY:Members' Meeting (ll) Event  (Energy Club)
DESCRIPTION:Event Name: Members’ Meeting (ll) Event\nDate: April 14th\, 2021 \nTime: 12:00 pm to 1:00 pm\nLocation: Zoom meeting (we will be in charge of providing the link to the members)\nTopic: Suez Canal Video + Coffee Chat on Current Industry Events\n  \nFor more information\, please click on Member’s Meeting II \n  \n 
URL:https://bmbas.org/event/members-meeting-ll-event-energy-club/
END:VEVENT
BEGIN:VEVENT
DTSTART;TZID=America/Mexico_City:20210401T120000
DTEND;TZID=America/Mexico_City:20210401T130000
DTSTAMP:20260419T064858
CREATED:20210323T033252Z
LAST-MODIFIED:20210323T033252Z
UID:2605-1617278400-1617282000@bmbas.org
SUMMARY:CPC Event
DESCRIPTION:Chevron Chemical Phillips Informaton Session \nTopic:  Information session about Chevron Phillips Chemical (30-45 minute presentation + Q&A)\n 
URL:https://bmbas.org/event/cpc-event/
END:VEVENT
BEGIN:VEVENT
DTSTART;TZID=America/Mexico_City:20210325T120000
DTEND;TZID=America/Mexico_City:20210325T130000
DTSTAMP:20260419T064858
CREATED:20210313T215153Z
LAST-MODIFIED:20210313T215324Z
UID:2599-1616673600-1616677200@bmbas.org
SUMMARY:Members' Meeting Event (Bauer Energy Club Event)
DESCRIPTION:For more information\, please click below. \nMembers’ Meeting Event
URL:https://bmbas.org/event/members-meeting-event-bauer-energy-club-event/
END:VEVENT
BEGIN:VEVENT
DTSTART;TZID=America/Mexico_City:20210305T120000
DTEND;TZID=America/Mexico_City:20210305T130000
DTSTAMP:20260419T064858
CREATED:20210225T031527Z
LAST-MODIFIED:20210225T031553Z
UID:2595-1614945600-1614949200@bmbas.org
SUMMARY:Interview Prep + Library Research Tools
DESCRIPTION:Guest Speaker: RCC Career Development Specialist: Lori Osborne and UH Librarian Orolando Duffus\nDate: Friday\,  March 5\, 2021\nTime: 12:00 pm to 1:00 pm\nLocation: Zoom meeting ( we will be in charge of providing it to the members)
URL:https://bmbas.org/event/interview-prep-library-research-tools/
END:VEVENT
BEGIN:VEVENT
DTSTART;TZID=America/Mexico_City:20210226T090000
DTEND;TZID=America/Mexico_City:20210226T103000
DTSTAMP:20260419T064858
CREATED:20210224T011920Z
LAST-MODIFIED:20210224T011920Z
UID:2591-1614330000-1614335400@bmbas.org
SUMMARY:RCC Event: Focus Friday
DESCRIPTION:Vaughn Nelson – Stephen Psaledakis President
URL:https://bmbas.org/event/rcc-event-focus-friday/
END:VEVENT
BEGIN:VEVENT
DTSTART;TZID=America/Mexico_City:20201201T130000
DTEND;TZID=America/Mexico_City:20201201T133000
DTSTAMP:20260419T064858
CREATED:20201120T162549Z
LAST-MODIFIED:20201120T162549Z
UID:2584-1606827600-1606829400@bmbas.org
SUMMARY:Energy Club Event
DESCRIPTION:
URL:https://bmbas.org/event/energy-club-event-2/
END:VEVENT
BEGIN:VEVENT
DTSTART;TZID=America/Mexico_City:20201119T130000
DTEND;TZID=America/Mexico_City:20201119T133000
DTSTAMP:20260419T064858
CREATED:20201120T162832Z
LAST-MODIFIED:20201120T162832Z
UID:2586-1605790800-1605792600@bmbas.org
SUMMARY:Energy Club Event (Yotta Energy)
DESCRIPTION:Virtual Recorded Presentation \n  \nYotta Energy \nGet to know about de-centralized Solar Energy Storage systems \n  \n  \nWhen: Thursday\, November 19th\, 2020 \n  \nTime: 1 PM – 1:30 PM Central Time \n  \nZoom Meeting ID: 854 5736 6756  Or   Access Zoom Meeting
URL:https://bmbas.org/event/energy-club-event-yotta-energy/
END:VEVENT
BEGIN:VEVENT
DTSTART;TZID=America/Mexico_City:20201117T113000
DTEND;TZID=America/Mexico_City:20201117T130000
DTSTAMP:20260419T064858
CREATED:20200825T231002Z
LAST-MODIFIED:20200829T030727Z
UID:2496-1605612600-1605618000@bmbas.org
SUMMARY:Energy Club Event TBD
DESCRIPTION:
URL:https://bmbas.org/event/slot-reserved-6/
END:VEVENT
BEGIN:VEVENT
DTSTART;TZID=America/Mexico_City:20201110T120000
DTEND;TZID=America/Mexico_City:20201110T130000
DTSTAMP:20260419T064858
CREATED:20201027T184813Z
LAST-MODIFIED:20201027T184813Z
UID:2574-1605009600-1605013200@bmbas.org
SUMMARY:Energy Club Event
DESCRIPTION:
URL:https://bmbas.org/event/energy-club-event/
END:VEVENT
BEGIN:VEVENT
DTSTART;TZID=America/Mexico_City:20201104T163000
DTEND;TZID=America/Mexico_City:20201104T180000
DTSTAMP:20260419T064858
CREATED:20201027T184349Z
LAST-MODIFIED:20201027T184543Z
UID:2571-1604507400-1604512800@bmbas.org
SUMMARY:Market Club's Women Event
DESCRIPTION:The Marketing Club is inviting you to a scheduled Zoom meeting. \nTopic: Marketing Club’s Women Event\nTime: Nov 4\, 2020 04:30 PM to 6 PM Central Time (US and Canada) \nJoin Zoom Meeting\nhttps://us02web.zoom.us/j/88641653036 \nMeeting ID: 886 4165 3036\nOne tap mobile\n+13462487799\,\,88641653036# US (Houston)\n+12532158782\,\,88641653036# US (Tacoma) \nDial by your location\n+1 346 248 7799 US (Houston)\n+1 253 215 8782 US (Tacoma)\n+1 669 900 9128 US (San Jose)\n+1 312 626 6799 US (Chicago)\n+1 646 558 8656 US (New York)\n+1 301 715 8592 US (Germantown)\nMeeting ID: 886 4165 3036\nFind your local number: https://us02web.zoom.us/u/kchWSdeWi
URL:https://bmbas.org/event/market-clubs-women-event/
ORGANIZER;CN="Marketing Club":MAILTO:marketing.club@bmbas.org
END:VEVENT
BEGIN:VEVENT
DTSTART;TZID=America/Mexico_City:20201103T113000
DTEND;TZID=America/Mexico_City:20201103T130000
DTSTAMP:20260419T064858
CREATED:20200825T230905Z
LAST-MODIFIED:20200829T030816Z
UID:2494-1604403000-1604408400@bmbas.org
SUMMARY:Energy Club Event TBD
DESCRIPTION:
URL:https://bmbas.org/event/slot-reserved-5/
END:VEVENT
BEGIN:VEVENT
DTSTART;TZID=America/Mexico_City:20201029T170000
DTEND;TZID=America/Mexico_City:20201029T180000
DTSTAMP:20260419T064858
CREATED:20201018T012021Z
LAST-MODIFIED:20201018T012021Z
UID:2568-1603990800-1603994400@bmbas.org
SUMMARY:Virtual Informational Session with AlliantGroup
DESCRIPTION:
URL:https://bmbas.org/event/virtual-informational-session-with-alliantgroup/
END:VEVENT
BEGIN:VEVENT
DTSTART;TZID=America/Mexico_City:20201023T170000
DTEND;TZID=America/Mexico_City:20201023T200000
DTSTAMP:20260419T064858
CREATED:20200819T220903Z
LAST-MODIFIED:20200829T032155Z
UID:2478-1603472400-1603483200@bmbas.org
SUMMARY:BMBAS Mentorship Kickoff Network Session
DESCRIPTION: 
URL:https://bmbas.org/event/bmbas-mentorship-kickoff-network-session/
END:VEVENT
BEGIN:VEVENT
DTSTART;TZID=America/Mexico_City:20201020T113000
DTEND;TZID=America/Mexico_City:20201020T130000
DTSTAMP:20260419T064858
CREATED:20200825T225747Z
LAST-MODIFIED:20200829T030916Z
UID:2491-1603193400-1603198800@bmbas.org
SUMMARY:Energy Club Event TBD
DESCRIPTION:
URL:https://bmbas.org/event/slot-reserved-4/
END:VEVENT
BEGIN:VEVENT
DTSTART;TZID=America/Mexico_City:20201016T161500
DTEND;TZID=America/Mexico_City:20201016T173000
DTSTAMP:20260419T064858
CREATED:20201002T022600Z
LAST-MODIFIED:20201009T151617Z
UID:2540-1602864900-1602869400@bmbas.org
SUMMARY:Consulting 101: Consulting careers and COVID 19
DESCRIPTION:Consulting & Technology Club presents: Consulting 101: Consulting Careers and COVID 19\n\nWhile the various economic impacts of COVID-19 are not yet fully understood\, competitive dynamics\, business models\, supply chains and customer needs are shifting dramatically. How do these affect your chances of exploring a career in consulting?\n\n\nJoin The Consulting & Technology club in this exclusive online event to discuss and learn about building a career in consulting & technology during COVID-19 with industry experts sharing  their views\, true stories and experiences. \nLEARN ABOUT:\n–  The business of consulting\n–  Getting ahead in building a good career in consulting & technology\n–  Exploring careers and opportunities in consulting\n–  Insider views on COVID-19 and the consulting industry \n  \nPlease RSVP via the link here.
URL:https://bmbas.org/event/consulting-101-consulting-careers-and-covid-19/
END:VEVENT
END:VCALENDAR