BEGIN:VCALENDAR
VERSION:2.0
PRODID:-//BMBAS - ECPv6.15.15//NONSGML v1.0//EN
CALSCALE:GREGORIAN
METHOD:PUBLISH
X-WR-CALNAME:BMBAS
X-ORIGINAL-URL:https://bmbas.org
X-WR-CALDESC:Events for BMBAS
REFRESH-INTERVAL;VALUE=DURATION:PT1H
X-Robots-Tag:noindex
X-PUBLISHED-TTL:PT1H
BEGIN:VTIMEZONE
TZID:America/Mexico_City
BEGIN:DAYLIGHT
TZOFFSETFROM:-0600
TZOFFSETTO:-0500
TZNAME:CDT
DTSTART:20180401T080000
END:DAYLIGHT
BEGIN:STANDARD
TZOFFSETFROM:-0500
TZOFFSETTO:-0600
TZNAME:CST
DTSTART:20181028T070000
END:STANDARD
BEGIN:DAYLIGHT
TZOFFSETFROM:-0600
TZOFFSETTO:-0500
TZNAME:CDT
DTSTART:20190407T080000
END:DAYLIGHT
BEGIN:STANDARD
TZOFFSETFROM:-0500
TZOFFSETTO:-0600
TZNAME:CST
DTSTART:20191027T070000
END:STANDARD
BEGIN:DAYLIGHT
TZOFFSETFROM:-0600
TZOFFSETTO:-0500
TZNAME:CDT
DTSTART:20200405T080000
END:DAYLIGHT
BEGIN:STANDARD
TZOFFSETFROM:-0500
TZOFFSETTO:-0600
TZNAME:CST
DTSTART:20201025T070000
END:STANDARD
BEGIN:DAYLIGHT
TZOFFSETFROM:-0600
TZOFFSETTO:-0500
TZNAME:CDT
DTSTART:20210404T080000
END:DAYLIGHT
BEGIN:STANDARD
TZOFFSETFROM:-0500
TZOFFSETTO:-0600
TZNAME:CST
DTSTART:20211031T070000
END:STANDARD
END:VTIMEZONE
BEGIN:VEVENT
DTSTART;TZID=America/Mexico_City:20201201T130000
DTEND;TZID=America/Mexico_City:20201201T133000
DTSTAMP:20260419T095009
CREATED:20201120T162549Z
LAST-MODIFIED:20201120T162549Z
UID:2584-1606827600-1606829400@bmbas.org
SUMMARY:Energy Club Event
DESCRIPTION:
URL:https://bmbas.org/event/energy-club-event-2/
END:VEVENT
BEGIN:VEVENT
DTSTART;TZID=America/Mexico_City:20201119T130000
DTEND;TZID=America/Mexico_City:20201119T133000
DTSTAMP:20260419T095009
CREATED:20201120T162832Z
LAST-MODIFIED:20201120T162832Z
UID:2586-1605790800-1605792600@bmbas.org
SUMMARY:Energy Club Event (Yotta Energy)
DESCRIPTION:Virtual Recorded Presentation \n  \nYotta Energy \nGet to know about de-centralized Solar Energy Storage systems \n  \n  \nWhen: Thursday\, November 19th\, 2020 \n  \nTime: 1 PM – 1:30 PM Central Time \n  \nZoom Meeting ID: 854 5736 6756  Or   Access Zoom Meeting
URL:https://bmbas.org/event/energy-club-event-yotta-energy/
END:VEVENT
BEGIN:VEVENT
DTSTART;TZID=America/Mexico_City:20201117T113000
DTEND;TZID=America/Mexico_City:20201117T130000
DTSTAMP:20260419T095009
CREATED:20200825T231002Z
LAST-MODIFIED:20200829T030727Z
UID:2496-1605612600-1605618000@bmbas.org
SUMMARY:Energy Club Event TBD
DESCRIPTION:
URL:https://bmbas.org/event/slot-reserved-6/
END:VEVENT
BEGIN:VEVENT
DTSTART;TZID=America/Mexico_City:20201110T120000
DTEND;TZID=America/Mexico_City:20201110T130000
DTSTAMP:20260419T095009
CREATED:20201027T184813Z
LAST-MODIFIED:20201027T184813Z
UID:2574-1605009600-1605013200@bmbas.org
SUMMARY:Energy Club Event
DESCRIPTION:
URL:https://bmbas.org/event/energy-club-event/
END:VEVENT
BEGIN:VEVENT
DTSTART;TZID=America/Mexico_City:20201104T163000
DTEND;TZID=America/Mexico_City:20201104T180000
DTSTAMP:20260419T095009
CREATED:20201027T184349Z
LAST-MODIFIED:20201027T184543Z
UID:2571-1604507400-1604512800@bmbas.org
SUMMARY:Market Club's Women Event
DESCRIPTION:The Marketing Club is inviting you to a scheduled Zoom meeting. \nTopic: Marketing Club’s Women Event\nTime: Nov 4\, 2020 04:30 PM to 6 PM Central Time (US and Canada) \nJoin Zoom Meeting\nhttps://us02web.zoom.us/j/88641653036 \nMeeting ID: 886 4165 3036\nOne tap mobile\n+13462487799\,\,88641653036# US (Houston)\n+12532158782\,\,88641653036# US (Tacoma) \nDial by your location\n+1 346 248 7799 US (Houston)\n+1 253 215 8782 US (Tacoma)\n+1 669 900 9128 US (San Jose)\n+1 312 626 6799 US (Chicago)\n+1 646 558 8656 US (New York)\n+1 301 715 8592 US (Germantown)\nMeeting ID: 886 4165 3036\nFind your local number: https://us02web.zoom.us/u/kchWSdeWi
URL:https://bmbas.org/event/market-clubs-women-event/
ORGANIZER;CN="Marketing Club":MAILTO:marketing.club@bmbas.org
END:VEVENT
BEGIN:VEVENT
DTSTART;TZID=America/Mexico_City:20201103T113000
DTEND;TZID=America/Mexico_City:20201103T130000
DTSTAMP:20260419T095009
CREATED:20200825T230905Z
LAST-MODIFIED:20200829T030816Z
UID:2494-1604403000-1604408400@bmbas.org
SUMMARY:Energy Club Event TBD
DESCRIPTION:
URL:https://bmbas.org/event/slot-reserved-5/
END:VEVENT
BEGIN:VEVENT
DTSTART;TZID=America/Mexico_City:20201029T170000
DTEND;TZID=America/Mexico_City:20201029T180000
DTSTAMP:20260419T095009
CREATED:20201018T012021Z
LAST-MODIFIED:20201018T012021Z
UID:2568-1603990800-1603994400@bmbas.org
SUMMARY:Virtual Informational Session with AlliantGroup
DESCRIPTION:
URL:https://bmbas.org/event/virtual-informational-session-with-alliantgroup/
END:VEVENT
BEGIN:VEVENT
DTSTART;TZID=America/Mexico_City:20201023T170000
DTEND;TZID=America/Mexico_City:20201023T200000
DTSTAMP:20260419T095009
CREATED:20200819T220903Z
LAST-MODIFIED:20200829T032155Z
UID:2478-1603472400-1603483200@bmbas.org
SUMMARY:BMBAS Mentorship Kickoff Network Session
DESCRIPTION: 
URL:https://bmbas.org/event/bmbas-mentorship-kickoff-network-session/
END:VEVENT
BEGIN:VEVENT
DTSTART;TZID=America/Mexico_City:20201020T113000
DTEND;TZID=America/Mexico_City:20201020T130000
DTSTAMP:20260419T095009
CREATED:20200825T225747Z
LAST-MODIFIED:20200829T030916Z
UID:2491-1603193400-1603198800@bmbas.org
SUMMARY:Energy Club Event TBD
DESCRIPTION:
URL:https://bmbas.org/event/slot-reserved-4/
END:VEVENT
BEGIN:VEVENT
DTSTART;TZID=America/Mexico_City:20201016T161500
DTEND;TZID=America/Mexico_City:20201016T173000
DTSTAMP:20260419T095009
CREATED:20201002T022600Z
LAST-MODIFIED:20201009T151617Z
UID:2540-1602864900-1602869400@bmbas.org
SUMMARY:Consulting 101: Consulting careers and COVID 19
DESCRIPTION:Consulting & Technology Club presents: Consulting 101: Consulting Careers and COVID 19\n\nWhile the various economic impacts of COVID-19 are not yet fully understood\, competitive dynamics\, business models\, supply chains and customer needs are shifting dramatically. How do these affect your chances of exploring a career in consulting?\n\n\nJoin The Consulting & Technology club in this exclusive online event to discuss and learn about building a career in consulting & technology during COVID-19 with industry experts sharing  their views\, true stories and experiences. \nLEARN ABOUT:\n–  The business of consulting\n–  Getting ahead in building a good career in consulting & technology\n–  Exploring careers and opportunities in consulting\n–  Insider views on COVID-19 and the consulting industry \n  \nPlease RSVP via the link here.
URL:https://bmbas.org/event/consulting-101-consulting-careers-and-covid-19/
END:VEVENT
BEGIN:VEVENT
DTSTART;TZID=America/Mexico_City:20201006T113000
DTEND;TZID=America/Mexico_City:20201006T130000
DTSTAMP:20260419T095009
CREATED:20200825T225645Z
LAST-MODIFIED:20200829T030937Z
UID:2489-1601983800-1601989200@bmbas.org
SUMMARY:Energy Club Event TBD
DESCRIPTION:
URL:https://bmbas.org/event/slot-reserved-3/
END:VEVENT
BEGIN:VEVENT
DTSTART;TZID=America/Mexico_City:20201002T170000
DTEND;TZID=America/Mexico_City:20201002T180000
DTSTAMP:20260419T095009
CREATED:20200819T220657Z
LAST-MODIFIED:20200829T032104Z
UID:2475-1601658000-1601661600@bmbas.org
SUMMARY:BMBAS Mentorship Training Program with RCC
DESCRIPTION:
URL:https://bmbas.org/event/bmbas-training-program/
END:VEVENT
BEGIN:VEVENT
DTSTART;TZID=America/Mexico_City:20201002T120000
DTEND;TZID=America/Mexico_City:20201002T160000
DTSTAMP:20260419T095009
CREATED:20200911T030241Z
LAST-MODIFIED:20200911T030241Z
UID:2529-1601640000-1601654400@bmbas.org
SUMMARY:Energy Career Fair
DESCRIPTION:Hello everyone\, \nHope you all are having a good weekend. Wanted to make sure that you all are aware about the Energy Career Fair. It’s on Oct. 2nd\, 2020. It’s still few weeks away but wanted you all to Save the Date. \nEnergy Career Fair is hosted thru Cougar Pathway. This is a separate portal than Bauer Career Gateway. You should be able to access Cougar Pathway thru AccessUH. \nHere’s the information on Career Events: \nsavethedate-fall2020 \nThanks everyone! Good luck with the Energy Career Fair and this semester. \nRegards\, \nSheel \nSheel R. Vyas \nPresident\, Bauer Energy Club \nMS Global Energy Management \nC.T. Bauer College of Business \nUniversity of Houston \nCell: +1-903-747-7447 \nhttps://bmbas.org/clubs/energy/
URL:https://bmbas.org/event/energy-career-fair/
END:VEVENT
BEGIN:VEVENT
DTSTART;TZID=America/Mexico_City:20200922T113000
DTEND;TZID=America/Mexico_City:20200922T130000
DTSTAMP:20260419T095009
CREATED:20200825T225546Z
LAST-MODIFIED:20200829T030955Z
UID:2487-1600774200-1600779600@bmbas.org
SUMMARY:Energy Club Event TBD
DESCRIPTION:
URL:https://bmbas.org/event/slot-reserved-2/
END:VEVENT
BEGIN:VEVENT
DTSTART;TZID=America/Mexico_City:20200918T100000
DTEND;TZID=America/Mexico_City:20200918T160000
DTSTAMP:20260419T095009
CREATED:20200810T150904Z
LAST-MODIFIED:20200810T150904Z
UID:2454-1600423200-1600444800@bmbas.org
SUMMARY:Fall 2020 Bauer Business Career Fair (Virtual)
DESCRIPTION:
URL:https://bmbas.org/event/fall-2020-bauer-business-career-fair-virtual/
END:VEVENT
BEGIN:VEVENT
DTSTART;TZID=America/Mexico_City:20200911T110000
DTEND;TZID=America/Mexico_City:20200911T130000
DTSTAMP:20260419T095009
CREATED:20200810T150608Z
LAST-MODIFIED:20200810T150608Z
UID:2452-1599822000-1599829200@bmbas.org
SUMMARY:Fall 2020 Bauer MBA/MS Career Fair (Virtual)
DESCRIPTION:
URL:https://bmbas.org/event/fall-2020-bauer-mba-ms-career-fair-virtual/
END:VEVENT
BEGIN:VEVENT
DTSTART;TZID=America/Mexico_City:20200909T163000
DTEND;TZID=America/Mexico_City:20200909T180000
DTSTAMP:20260419T095009
CREATED:20200819T220440Z
LAST-MODIFIED:20200829T032908Z
UID:2473-1599669000-1599674400@bmbas.org
SUMMARY:How To Build Your Brand Strategy During Covid-19
DESCRIPTION:Hey Coogs\, \n\n\n\nWe hope you are doing well and staying safe! We understand that this is a difficult time for everyone\, especially small businesses. To help you navigate the situation successfully\, the Bauer MBA Society’s Marketing Club\, together with the Indonesian American Chamber of Commerce SCU\, brings you a webinar on “how to build your brand strategy during COVID-19“. The webinar will provide you with key insights into a successful branding strategy and directions on how you can build a strong brand image.\n\nThe webinar will be hosted via Zoom on Wednesday\, September 9th at 4:30 pm. To join BMBAS\, click here. Please see the attached flyer for more details about the webinar\, or read more about the speaker here. If you have any questions please email marketing.club@bmbas.org or marketing.vp@bmbas.org
URL:https://bmbas.org/event/how-to-build-your-brand-strategy-during-covid-19/
END:VEVENT
BEGIN:VEVENT
DTSTART;TZID=America/Mexico_City:20200908T113000
DTEND;TZID=America/Mexico_City:20200908T130000
DTSTAMP:20260419T095009
CREATED:20200825T225043Z
LAST-MODIFIED:20200829T031157Z
UID:2485-1599564600-1599570000@bmbas.org
SUMMARY:Energy Club Event TBD
DESCRIPTION:
URL:https://bmbas.org/event/slot-reserved/
END:VEVENT
BEGIN:VEVENT
DTSTART;TZID=America/Mexico_City:20200902T113000
DTEND;TZID=America/Mexico_City:20200902T130000
DTSTAMP:20260419T095009
CREATED:20200825T173016Z
LAST-MODIFIED:20200825T173016Z
UID:2482-1599046200-1599051600@bmbas.org
SUMMARY:MBA/MS Resume Power Hour
DESCRIPTION:Is your resume ready to go? \nJoin the graduate career counselors during your lunch hour to get a quick resume review; receive feedback and suggestions on how to make your resume stand out in a virtual job market. \nThe resume reviews will be on a first come\, first served basis\, roughly 15 minutes per feedback session.  A draft of your resume in the Bauer format is required for participation. \nRSVP in Gateway under Events – Workshops. \nSeptember 1st and September 2nd \n11:30 am – 1:00 pm \n 
URL:https://bmbas.org/event/mba-ms-resume-power-hour-2/
END:VEVENT
BEGIN:VEVENT
DTSTART;TZID=America/Mexico_City:20200901T113000
DTEND;TZID=America/Mexico_City:20200901T130000
DTSTAMP:20260419T095009
CREATED:20200825T172913Z
LAST-MODIFIED:20200825T172913Z
UID:2480-1598959800-1598965200@bmbas.org
SUMMARY:MBA/MS Resume Power Hour
DESCRIPTION:Is your resume ready to go? \nJoin the graduate career counselors during your lunch hour to get a quick resume review; receive feedback and suggestions on how to make your resume stand out in a virtual job market. \nThe resume reviews will be on a first come\, first served basis\, roughly 15 minutes per feedback session.  A draft of your resume in the Bauer format is required for participation. \nRSVP in Gateway under Events – Workshops. \nSeptember 1st and September 2nd \n11:30 am – 1:00 pm \n 
URL:https://bmbas.org/event/mba-ms-resume-power-hour/
END:VEVENT
BEGIN:VEVENT
DTSTART;TZID=America/Mexico_City:20200820T100000
DTEND;TZID=America/Mexico_City:20200820T180000
DTSTAMP:20260419T095009
CREATED:20200810T150446Z
LAST-MODIFIED:20200810T150446Z
UID:2450-1597917600-1597946400@bmbas.org
SUMMARY:Fall 2020 Bauer Business Pre-Recruiting Mixers (Virtual)
DESCRIPTION:Thursday\, 08/20/20 \nAcct & Fin 10am- 12pm \nMgmt\, MIS\, MARK & SCM 3pm- 6pm
URL:https://bmbas.org/event/fall-2020-bauer-business-pre-recruiting-mixers-virtual/
END:VEVENT
BEGIN:VEVENT
DTSTART;TZID=America/Mexico_City:20200818T120000
DTEND;TZID=America/Mexico_City:20200818T130000
DTSTAMP:20260419T095009
CREATED:20200812T181248Z
LAST-MODIFIED:20200812T181248Z
UID:2465-1597752000-1597755600@bmbas.org
SUMMARY:MBA/MS Prep Session for Virtual Career Events
DESCRIPTION:Bauer MBA/MS students: Join us via Zoom on August 18th from 12:00 -1:00 pm to learn how to prepare for the August and September virtual career events. \nThis interactive session will provide you with tips and tricks for navigating virtual events and let you know what you need to have prepared in advance and what to expect the day of the event. \nRSVP in Bauer Gateway under events/workshops where you will find the Zoom link.
URL:https://bmbas.org/event/mba-ms-prep-session-for-virtual-career-events/
END:VEVENT
BEGIN:VEVENT
DTSTART;TZID=America/Mexico_City:20200408T080000
DTEND;TZID=America/Mexico_City:20200408T170000
DTSTAMP:20260419T095009
CREATED:20190725T214132Z
LAST-MODIFIED:20190725T215006Z
UID:2120-1586332800-1586365200@bmbas.org
SUMMARY:Marketing Alumni Mixer
DESCRIPTION:
URL:https://bmbas.org/event/marketing-alumni-mixer/
CATEGORIES:Mixer
ORGANIZER;CN="Marketing Club":MAILTO:marketing.club@bmbas.org
END:VEVENT
BEGIN:VEVENT
DTSTART;TZID=America/Mexico_City:20200116T170000
DTEND;TZID=America/Mexico_City:20200116T180000
DTSTAMP:20260419T095009
CREATED:20190726T031604Z
LAST-MODIFIED:20190726T031604Z
UID:2138-1579194000-1579197600@bmbas.org
SUMMARY:General Body Meeting
DESCRIPTION:
URL:https://bmbas.org/event/general-body-meeting-6/
END:VEVENT
BEGIN:VEVENT
DTSTART;TZID=America/Mexico_City:20191205T170000
DTEND;TZID=America/Mexico_City:20191205T180000
DTSTAMP:20260419T095009
CREATED:20190726T031440Z
LAST-MODIFIED:20190726T031440Z
UID:2136-1575565200-1575568800@bmbas.org
SUMMARY:General Body Meeting
DESCRIPTION:
URL:https://bmbas.org/event/general-body-meeting-5/
CATEGORIES:Event
END:VEVENT
BEGIN:VEVENT
DTSTART;TZID=America/Mexico_City:20191125T163000
DTEND;TZID=America/Mexico_City:20191125T180000
DTSTAMP:20260419T095009
CREATED:20190822T192732Z
LAST-MODIFIED:20190910T163734Z
UID:2283-1574699400-1574704800@bmbas.org
SUMMARY:Supply Chain Club: Women in SCM
DESCRIPTION:
URL:https://bmbas.org/event/women-in-scm/
CATEGORIES:Panel
END:VEVENT
BEGIN:VEVENT
DTSTART;TZID=America/Mexico_City:20191114T000000
DTEND;TZID=America/Mexico_City:20191114T000000
DTSTAMP:20260419T095009
CREATED:20190811T222522Z
LAST-MODIFIED:20190910T164042Z
UID:2265-1573689600-1573689600@bmbas.org
SUMMARY:Energy Club: Info Session
DESCRIPTION:
URL:https://bmbas.org/event/info-session-3/
CATEGORIES:Info Session
END:VEVENT
BEGIN:VEVENT
DTSTART;TZID=America/Mexico_City:20191113T043000
DTEND;TZID=America/Mexico_City:20191113T174500
DTSTAMP:20260419T095009
CREATED:20190725T213507Z
LAST-MODIFIED:20190910T162134Z
UID:2111-1573619400-1573667100@bmbas.org
SUMMARY:Marketing Club: Digital Media Panel
DESCRIPTION:
URL:https://bmbas.org/event/digital-media-panel/
CATEGORIES:Panel
ORGANIZER;CN="Marketing Club":MAILTO:marketing.club@bmbas.org
END:VEVENT
BEGIN:VEVENT
DTSTART;TZID=America/Mexico_City:20191111T170000
DTEND;TZID=America/Mexico_City:20191111T180000
DTSTAMP:20260419T095009
CREATED:20190726T031308Z
LAST-MODIFIED:20190910T163926Z
UID:2134-1573491600-1573495200@bmbas.org
SUMMARY:General Body Meeting
DESCRIPTION:
URL:https://bmbas.org/event/general-body-meeting-4/
END:VEVENT
BEGIN:VEVENT
DTSTART;TZID=America/Mexico_City:20191031T170000
DTEND;TZID=America/Mexico_City:20191031T180000
DTSTAMP:20260419T095009
CREATED:20191003T153827Z
LAST-MODIFIED:20191003T153827Z
UID:2324-1572541200-1572544800@bmbas.org
SUMMARY:Healthcare Club: Speaker Event
DESCRIPTION:Stuart Cayer\, Director of Operations at Kelsey-Seybold
URL:https://bmbas.org/event/healthcare-club-speaker-event/
CATEGORIES:Speaker Series
END:VEVENT
END:VCALENDAR